BEGIN:VCALENDAR
VERSION:2.0
PRODID:-//Direcția Generală Cultură și Patrimoniu Cultural Chișinău - ECPv6.8.2.1//NONSGML v1.0//EN
CALSCALE:GREGORIAN
METHOD:PUBLISH
X-WR-CALNAME:Direcția Generală Cultură și Patrimoniu Cultural Chișinău
X-ORIGINAL-URL:https://cultura.chisinau.md
X-WR-CALDESC:Events for Direcția Generală Cultură și Patrimoniu Cultural Chișinău
REFRESH-INTERVAL;VALUE=DURATION:PT1H
X-Robots-Tag:noindex
X-PUBLISHED-TTL:PT1H
BEGIN:VTIMEZONE
TZID:Europe/Helsinki
BEGIN:DAYLIGHT
TZOFFSETFROM:+0200
TZOFFSETTO:+0300
TZNAME:EEST
DTSTART:20240331T010000
END:DAYLIGHT
BEGIN:STANDARD
TZOFFSETFROM:+0300
TZOFFSETTO:+0200
TZNAME:EET
DTSTART:20241027T010000
END:STANDARD
BEGIN:DAYLIGHT
TZOFFSETFROM:+0200
TZOFFSETTO:+0300
TZNAME:EEST
DTSTART:20250330T010000
END:DAYLIGHT
BEGIN:STANDARD
TZOFFSETFROM:+0300
TZOFFSETTO:+0200
TZNAME:EET
DTSTART:20251026T010000
END:STANDARD
TZID:UTC
BEGIN:STANDARD
TZOFFSETFROM:+0000
TZOFFSETTO:+0000
TZNAME:UTC
DTSTART:20240101T000000
END:STANDARD
END:VTIMEZONE
BEGIN:VEVENT
DTSTART;VALUE=DATE:20241202
DTEND;VALUE=DATE:20250116
DTSTAMP:20260420T052939
CREATED:20241129T162042Z
LAST-MODIFIED:20241202T072131Z
UID:1866-1733097600-1736985599@cultura.chisinau.md
SUMMARY:Atelierul lui Moș Crăciun
DESCRIPTION:
URL:https://cultura.chisinau.md/event/craciun/
LOCATION:Piața Marii Adunări Naționale
ATTACH;FMTTYPE=image/jpeg:https://cultura.chisinau.md/wp-content/uploads/2024/11/craciun_head.jpg
END:VEVENT
BEGIN:VEVENT
DTSTART;VALUE=DATE:20240824
DTEND;VALUE=DATE:20240826
DTSTAMP:20260420T052940
CREATED:20240625T055720Z
LAST-MODIFIED:20240625T055912Z
UID:1387-1724457600-1724630399@cultura.chisinau.md
SUMMARY:Zilele Chișinăului la Suceava
DESCRIPTION:Programul este în curs de elaborare. Evenimentul va include concerte\, expoțizii ale meșterilor populari\, activități culturale și spectacole.
URL:https://cultura.chisinau.md/event/zilele-chisinaului-la-suceava/
ATTACH;FMTTYPE=image/jpeg:https://cultura.chisinau.md/wp-content/uploads/2024/06/suceava.jpg
END:VEVENT
BEGIN:VEVENT
DTSTART;TZID=UTC:20240817T160000
DTEND;TZID=UTC:20240818T220000
DTSTAMP:20260420T052940
CREATED:20240701T034442Z
LAST-MODIFIED:20240701T035141Z
UID:1420-1723910400-1724018400@cultura.chisinau.md
SUMMARY:Festivalul „DOR de Chișinău”
DESCRIPTION:Primăria Municipiului Chișinău anunță desfășurarea primei ediții a Festivalului „DOR de Chișinău”\, un eveniment menit să celebreze Zilele Diasporei\, care se desfășoară anual la sfârșitul celei de-a treia săptămâni a lunii august. \nÎn perioada 17-18 august 2024\, ora: 16:00 – 22:00\, strada pietonală „Eugen Doga” va deveni spațiu de întâlnire pentru toți cei care simt dorul de a reveni acasă. \nFestivalul „DOR de Chișinău”\, organizat în cadrul Zilelor Diasporei\, pune în valoare bogăția culturală și conexiunile puternice pe care le reprezintă diaspora moldovenească\, aducând împreună comunitatea diasporei din întreaga lume pentru a consolida legăturile și a împărtăși experiențe. \nProgramul festivalului include recitaluri ale artiștilor îndrăgiți de moldovenii de pretutindeni\, expoziții de artă\, întâlniri cu scriitori și târguri de meșteșugari și artizani\, ateliere creative și proiecții de filme. Pe scena festivalului vor urca atât artiști naționali\, cât și internaționali. \nPentru toți cei care simt dorul de a reveni acasă\, acest festival reprezintă mai mult decât un simplu eveniment cultural – este o călătorie emoțională către rădăcini\, gustul autentic al mâncării ca la mama acasă\, revederea chipurilor familiare ale celor dragi și redescoperirea frumuseților naturale și bogățiilor Moldovei. \nLa finalul festivalului\, toți participanții vor fi invitați la o horă a diasporei\, simbol al unității! Ne vedem la „DOR de Chișinău” pe 17-18 august 2024\, strada pietonală „Eugen Doga”!
URL:https://cultura.chisinau.md/event/festivalul-dor-de-chisinau/
ATTACH;FMTTYPE=image/jpeg:https://cultura.chisinau.md/wp-content/uploads/2024/07/dor.jpg
END:VEVENT
BEGIN:VEVENT
DTSTART;VALUE=DATE:20240815
DTEND;VALUE=DATE:20240818
DTSTAMP:20260420T052940
CREATED:20240625T054835Z
LAST-MODIFIED:20240625T054835Z
UID:1382-1723680000-1723939199@cultura.chisinau.md
SUMMARY:Zilele Chișinăului la Vaslui
DESCRIPTION:Programul va fi publicat după definitivare.
URL:https://cultura.chisinau.md/event/zilele-chisinaului-la-vaslui/
ATTACH;FMTTYPE=image/jpeg:https://cultura.chisinau.md/wp-content/uploads/2024/06/vaslui.jpg
END:VEVENT
BEGIN:VEVENT
DTSTART;TZID=UTC:20240810T193000
DTEND;TZID=UTC:20240810T213000
DTSTAMP:20260420T052940
CREATED:20240625T053737Z
LAST-MODIFIED:20240625T053737Z
UID:1376-1723318200-1723325400@cultura.chisinau.md
SUMMARY:Festivalul de Muzică Populară ”Acasă”
DESCRIPTION:Primăria Municipiului Chișinău este partener la organizarea Festivalului de Muzică Populară ”Acasă”. \nEvenimentul evocă tradițiile neamului și ne îndeamnă să celebrăm patrimoniul cultural\, care ne identifică ca popor. \nInvitații speciali din acest an sunt: \n– Nicolae Botgros\n– Sofia Vicoveanca\n– Constantin Enceanu\n– Niculina Stoican\n– Igor Cuciuc\n– Doina Sulac\n– Fetele din Botoșani\n– Cristina Scarlat\n– Adriana Babin\n– Baletul Național al Moldovei ”JOC”\n– Ansamblul ”Ștefan Vodă”\n– și mulți alți artiști de valoare \nSoliștii vor fi acompaniați de Orchestra ”Lăutarii”\, în frunte cu Maestrul Nicolae Botgros. \nRegizor: Svetlana Frumusachi \nVino pe 10 august\, începând cu ora 19:30\, la Teatrul Verde (renovat). \nBiletele pot fi procurate în rețeaua iTicket.
URL:https://cultura.chisinau.md/event/festivalul-de-muzica-populara-acasa/
LOCATION:Teatrul Verde
ATTACH;FMTTYPE=image/png:https://cultura.chisinau.md/wp-content/uploads/2024/06/10-august.png
ORGANIZER;CN="iTicket":MAILTO:info@iticket.md
END:VEVENT
BEGIN:VEVENT
DTSTART;VALUE=DATE:20240729
DTEND;VALUE=DATE:20240730
DTSTAMP:20260420T052940
CREATED:20240625T051345Z
LAST-MODIFIED:20240625T051345Z
UID:1371-1722211200-1722297599@cultura.chisinau.md
SUMMARY:Ziua Constituției
DESCRIPTION:Cu prilejul Zilei Constituției în Capitală vor avea loc diverse activități culturale și concerte. Programul este în curs de elaborare.
URL:https://cultura.chisinau.md/event/ziua-constitutiei/
ATTACH;FMTTYPE=image/jpeg:https://cultura.chisinau.md/wp-content/uploads/2024/06/constitutia_rm.jpg
END:VEVENT
BEGIN:VEVENT
DTSTART;VALUE=DATE:20240726
DTEND;VALUE=DATE:20240729
DTSTAMP:20260420T052940
CREATED:20240625T050733Z
LAST-MODIFIED:20240625T050733Z
UID:1366-1721952000-1722211199@cultura.chisinau.md
SUMMARY:Zilele Chișinăului la Alba Iulia
DESCRIPTION:Detaliile evenimentului vor fi publicate imediat după definitivare.
URL:https://cultura.chisinau.md/event/zilele-chisinaului-la-alba-iulia/
ATTACH;FMTTYPE=image/jpeg:https://cultura.chisinau.md/wp-content/uploads/2024/06/alba-iulia2.jpg
END:VEVENT
BEGIN:VEVENT
DTSTART;TZID=UTC:20240719T100000
DTEND;TZID=UTC:20240721T210000
DTSTAMP:20260420T052940
CREATED:20240528T120642Z
LAST-MODIFIED:20240720T045458Z
UID:603-1721383200-1721595600@cultura.chisinau.md
SUMMARY:Festivalul „Te salut\, Chișinău”
DESCRIPTION:Primăria municipiului Chișinău te invită la Festivalul „Te salut\, Chișinău”\, dedicat marcării a 588 de ani de la prima atestare a Chișinăului.\n\n\n\nDin 19 până pe 21 iulie\, te așteptăm la manifestările cultural-artistice pe Strada Pietonală „Eugen Doga”.
URL:https://cultura.chisinau.md/event/festivalul-te-salut-chisinau/
LOCATION:Strada Pietonală Eugen Doga\, Strada Eugen Doga\, Chișinău\, 2044
ATTACH;FMTTYPE=image/jpeg:https://cultura.chisinau.md/wp-content/uploads/2024/07/photo_2024-07-20_09-26-31-2.jpg
END:VEVENT
BEGIN:VEVENT
DTSTART;VALUE=DATE:20240623
DTEND;VALUE=DATE:20240624
DTSTAMP:20260420T052940
CREATED:20240528T113432Z
LAST-MODIFIED:20240528T120002Z
UID:595-1719100800-1719187199@cultura.chisinau.md
SUMMARY:Ziua funcționarului public
DESCRIPTION:Astăzi\, 23 iunie\, sărbătorim Ziua Funcționarului Public. Este un bun prilej pentru a mulţumi tuturor funcționarilor publici pentru muncă\, profesionalism\, competență și dăruire.Direcția Generală Cultură și Patrimoniu Cultural\, aduce sincere mulțumiri întregii echipe pentru rezultatele înregistrate\, dar și realizarea tuturor obiectivelor pe care și le propune direcția.Împreună\, contribuim la prosperarea societății noastre și nemijlocit la culturalizarea acesteia.
URL:https://cultura.chisinau.md/event/ziua-functionarului-public/
LOCATION:Direcția Generală Cultură și Patrimoniu Cultural\, Strada București 68\, MD-2012\, Chișinău\, Молдова
ATTACH;FMTTYPE=image/png:https://cultura.chisinau.md/wp-content/uploads/2024/05/Design-fara-titlu-1-1.png
END:VEVENT
BEGIN:VEVENT
DTSTART;VALUE=DATE:20240623
DTEND;VALUE=DATE:20240624
DTSTAMP:20260420T052940
CREATED:20240528T113030Z
LAST-MODIFIED:20240528T121146Z
UID:591-1719100800-1719187199@cultura.chisinau.md
SUMMARY:Ziua Suveranității
DESCRIPTION:În 23 iunie\, este marcată Ziua Suveranității Republicii Moldova. \nDeclarația de Suveranitate a fost adoptată pe aceeași dată\, în 1990. \nDeclarația este document istoric care urmărește „scopul instituirii justiţiei\, ocrotirii legalităţii şi stabilităţii sociale”. \nEa proclamă că Republica Moldova este un stat suveran\, unitar și indivizibil\, și că purtătorul suveranității și singura sursă de putere este poporul.
URL:https://cultura.chisinau.md/event/ziua-suveranitatii/
LOCATION:Piața Marii Adunări Naționale\, Chișinău\, Moldova
ATTACH;FMTTYPE=image/jpeg:https://cultura.chisinau.md/wp-content/uploads/2024/05/279425517_5402221333124055_4769070899782301359_n.jpg
END:VEVENT
BEGIN:VEVENT
DTSTART;TZID=UTC:20240615T180000
DTEND;TZID=UTC:20240615T180000
DTSTAMP:20260420T052940
CREATED:20240613T061333Z
LAST-MODIFIED:20240618T062318Z
UID:885-1718474400-1718474400@cultura.chisinau.md
SUMMARY:Omagiu dedicat marelui poet Mihai Eminescu
DESCRIPTION:Direcția Generală Cultură și Patrimoniu Cultural vă invită la un eveniment-omagiu dedicat marelui poet Mihai Eminescu\, care va avea loc pe 15 iunie\, începând cu ora 18:00\, în Scuarul „Mihai Eminescu” din Capitală.\n\n\n\nEvenimentul va aduce un tribut geniului literar\, printr-un spectacol muzical-poetic intitulat „Nu credeam să-nvăț a muri vreodată”\, care va reflecta personalitatea\, intelectul și sufletul marelui poet.\n\n\n\nPe ecran va fi proiectat chipul lui Eminescu\, iar actorii vor purta costume alb-negru și alb-crem\, simbolizând puritatea și profunzimea artistului.
URL:https://cultura.chisinau.md/event/omagiu-dedicat-marelui-poet-mihai-eminescu/
LOCATION:Scuarul „Mihai Eminescu”
ATTACH;FMTTYPE=image/png:https://cultura.chisinau.md/wp-content/uploads/2024/06/Cover-site-Cultura.png
END:VEVENT
BEGIN:VEVENT
DTSTART;TZID=UTC:20240402T080000
DTEND;TZID=UTC:20240402T170000
DTSTAMP:20260420T052940
CREATED:20240402T042327Z
LAST-MODIFIED:20240402T042327Z
UID:146-1712044800-1712077200@cultura.chisinau.md
SUMMARY:Târgul de primăvară
DESCRIPTION:It is a long established fact that a reader will be distracted by the readable content of a page
URL:https://cultura.chisinau.md/event/targul-de-primavara/
ATTACH;FMTTYPE=image/jpeg:https://cultura.chisinau.md/wp-content/uploads/2024/04/47-1.jpg
END:VEVENT
BEGIN:VEVENT
DTSTART;TZID=UTC:20240106T000000
DTEND;TZID=UTC:20240206T000000
DTSTAMP:20260420T052940
CREATED:20240528T111355Z
LAST-MODIFIED:20240528T150005Z
UID:583-1704499200-1707177600@cultura.chisinau.md
SUMMARY:Ziua internațională a ocrotirii copilului
DESCRIPTION:Vă invităm la cea de-a II-a ediție a festivalului “Lumea Copilăriei”\, desfășurat în perioada 31 mai – 2 iunie\, începând cu ora 10:00\, în Parcul “Alunelul”.\n\n\n\nÎn prima zi de vară\, sărbătorim Ziua Internațională a Copilului\, o ocazie de a celebra cea mai frumoasă perioadă din viața fiecărei persoane – copilăria.\n\n\n\nAceastă zi specială este dedicată aprecierii și iubirii copiilor\, sprijinirii acestora și promovării bunăstării lor pe plan mondial.\n\n\n\nÎn program:\n Cleopatra Stratan\n Iuliana Beregoi\n Kamelia Melnik\n Ciao Patricia\n Clounella\n Reghina Alexandrina\n Elevii școlilor de arte din Chișinău\n\n\n\nINTRAREA ESTE LIBERĂ!\n\n\n\n Scopul evenimentului este de a conștientiza importanța drepturilor și bunăstării copiilor în societate.\n\n\n\n\nVă așteptăm cu drag!
URL:https://cultura.chisinau.md/event/ziua-internationala-a-ocrotirii-copilului/
LOCATION:Parcul Alunelul
ATTACH;FMTTYPE=image/png:https://cultura.chisinau.md/wp-content/uploads/2024/05/Design-fara-titlu.png
END:VEVENT
END:VCALENDAR